BEGIN:VCALENDAR
VERSION:2.0
PRODID:-//wp-events-plugin.com//7.2.3//EN
TZID:Europe/London
X-WR-TIMEZONE:Europe/London
BEGIN:VEVENT
UID:744@gmhb.co.uk
DTSTART;TZID=Europe/London:20250816T083000
DTEND;TZID=Europe/London:20250816T130000
DTSTAMP:20250521T133719Z
URL:https://gmhb.co.uk/events/approaching-the-chair-seminar-dining-hall-te
 mple/
SUMMARY:Approaching The Chair Seminar - Dining Hall/Temple
DESCRIPTION:
CATEGORIES:Private Hire
LOCATION:Temple\, 5 Clarence Road\, Temple\, Hampshire\, PO12 1BB\, United 
 Kingdom
X-APPLE-STRUCTURED-LOCATION;VALUE=URI;X-ADDRESS=5 Clarence Road\, Temple\, 
 Hampshire\, PO12 1BB\, United Kingdom;X-APPLE-RADIUS=100;X-TITLE=Temple:ge
 o:0,0
END:VEVENT
BEGIN:VTIMEZONE
TZID:Europe/London
X-LIC-LOCATION:Europe/London
BEGIN:DAYLIGHT
DTSTART:20250330T020000
TZOFFSETFROM:+0000
TZOFFSETTO:+0100
TZNAME:BST
END:DAYLIGHT
END:VTIMEZONE
END:VCALENDAR