BEGIN:VCALENDAR
VERSION:2.0
PRODID:-//wp-events-plugin.com//7.2.3//EN
TZID:Europe/London
X-WR-TIMEZONE:Europe/London
BEGIN:VEVENT
UID:190@gmhb.co.uk
DTSTART;TZID=Europe/London:20240507T180000
DTEND;TZID=Europe/London:20240507T213000
DTSTAMP:20240111T121123Z
URL:https://gmhb.co.uk/events/gosport-lodge-no-903-gp-loi-4/
SUMMARY:Gosport Lodge No 903 - GP & LOI
DESCRIPTION:
CATEGORIES:General Purpose,Lodge of Instruction
LOCATION:Temple\, 5 Clarence Road\, Temple\, Hampshire\, PO12 1BB\, United 
 Kingdom
X-APPLE-STRUCTURED-LOCATION;VALUE=URI;X-ADDRESS=5 Clarence Road\, Temple\, 
 Hampshire\, PO12 1BB\, United Kingdom;X-APPLE-RADIUS=100;X-TITLE=Temple:ge
 o:0,0
END:VEVENT
BEGIN:VTIMEZONE
TZID:Europe/London
X-LIC-LOCATION:Europe/London
BEGIN:DAYLIGHT
DTSTART:20240331T020000
TZOFFSETFROM:+0000
TZOFFSETTO:+0100
TZNAME:BST
END:DAYLIGHT
END:VTIMEZONE
END:VCALENDAR