BEGIN:VCALENDAR
VERSION:2.0
PRODID:-//wp-events-plugin.com//7.2.3//EN
TZID:Europe/London
X-WR-TIMEZONE:Europe/London
BEGIN:VEVENT
UID:1015@gmhb.co.uk
DTSTART;TZID=Europe/London:20260204T190000
DTEND;TZID=Europe/London:20260204T210000
DTSTAMP:20251103T194243Z
URL:https://gmhb.co.uk/events/lee-britten-chapter-5782-gp-bar-area/
SUMMARY:Lee Britten Chapter 5782 - GP (Bar Area)
DESCRIPTION:
CATEGORIES:General Purpose
END:VEVENT
BEGIN:VTIMEZONE
TZID:Europe/London
X-LIC-LOCATION:Europe/London
BEGIN:STANDARD
DTSTART:20251026T010000
TZOFFSETFROM:+0100
TZOFFSETTO:+0000
TZNAME:GMT
END:STANDARD
END:VTIMEZONE
END:VCALENDAR