BEGIN:VCALENDAR
VERSION:2.0
PRODID:-//wp-events-plugin.com//7.2.3//EN
TZID:Europe/London
X-WR-TIMEZONE:Europe/London
BEGIN:VEVENT
UID:145@gmhb.co.uk
DTSTART;TZID=Europe/London:20240304T183000
DTEND;TZID=Europe/London:20240304T213000
DTSTAMP:20240109T163707Z
URL:https://gmhb.co.uk/events/lee-britten-lodge-no-5782-rehearsal-2/
SUMMARY:Lee Britten Lodge No 5782 - Rehearsal
DESCRIPTION:
CATEGORIES:Rehearsal
LOCATION:Dining Room\, Clarence Road \, Dining Room\, Hampshire\, PO12 1BB\
 , United Kingdom
X-APPLE-STRUCTURED-LOCATION;VALUE=URI;X-ADDRESS=Clarence Road \, Dining Roo
 m\, Hampshire\, PO12 1BB\, United Kingdom;X-APPLE-RADIUS=100;X-TITLE=Dinin
 g Room:geo:0,0
END:VEVENT
BEGIN:VTIMEZONE
TZID:Europe/London
X-LIC-LOCATION:Europe/London
BEGIN:STANDARD
DTSTART:20231029T010000
TZOFFSETFROM:+0100
TZOFFSETTO:+0000
TZNAME:GMT
END:STANDARD
END:VTIMEZONE
END:VCALENDAR