BEGIN:VCALENDAR
VERSION:2.0
PRODID:-//wp-events-plugin.com//7.2.3//EN
TZID:Europe/London
X-WR-TIMEZONE:Europe/London
BEGIN:VEVENT
UID:785@gmhb.co.uk
DTSTART;TZID=Europe/London:20250926T183000
DTEND;TZID=Europe/London:20250926T213000
DTSTAMP:20250816T195129Z
URL:https://gmhb.co.uk/events/lee-britten-lodge-no-5782-rehearsal-6/
SUMMARY:Lee Britten Lodge No 5782 - Rehearsal
DESCRIPTION:
CATEGORIES:Rehearsal
LOCATION:Temple\, 5 Clarence Road\, Temple\, Hampshire\, PO12 1BB\, United 
 Kingdom
X-APPLE-STRUCTURED-LOCATION;VALUE=URI;X-ADDRESS=5 Clarence Road\, Temple\, 
 Hampshire\, PO12 1BB\, United Kingdom;X-APPLE-RADIUS=100;X-TITLE=Temple:ge
 o:0,0
END:VEVENT
BEGIN:VTIMEZONE
TZID:Europe/London
X-LIC-LOCATION:Europe/London
BEGIN:DAYLIGHT
DTSTART:20250330T020000
TZOFFSETFROM:+0000
TZOFFSETTO:+0100
TZNAME:BST
END:DAYLIGHT
END:VTIMEZONE
END:VCALENDAR