BEGIN:VCALENDAR
VERSION:2.0
PRODID:-//wp-events-plugin.com//7.2.3//EN
TZID:Europe/London
X-WR-TIMEZONE:Europe/London
BEGIN:VEVENT
UID:1108@gmhb.co.uk
DTSTART;TZID=Europe/London:20260505T190000
DTEND;TZID=Europe/London:20260505T200000
DTSTAMP:20260422T132355Z
URL:https://gmhb.co.uk/events/rowner-lodge-6974-bar-area/
SUMMARY:Rowner Lodge 6974 - Bar Area
DESCRIPTION:
CATEGORIES:General Purpose,Rehearsal
END:VEVENT
BEGIN:VTIMEZONE
TZID:Europe/London
X-LIC-LOCATION:Europe/London
BEGIN:DAYLIGHT
DTSTART:20260329T020000
TZOFFSETFROM:+0000
TZOFFSETTO:+0100
TZNAME:BST
END:DAYLIGHT
END:VTIMEZONE
END:VCALENDAR