BEGIN:VCALENDAR
VERSION:2.0
PRODID:-//wp-events-plugin.com//7.2.3//EN
TZID:Europe/London
X-WR-TIMEZONE:Europe/London
BEGIN:VEVENT
UID:758@gmhb.co.uk
DTSTART;TZID=Europe/London:20250607T103000
DTEND;TZID=Europe/London:20250607T123000
DTSTAMP:20250529T172426Z
URL:https://gmhb.co.uk/events/solent-area-membership/
SUMMARY:Solent Area Membership
DESCRIPTION:
CATEGORIES:General Purpose
LOCATION:Dining Room\, Clarence Road \, Dining Room\, Hampshire\, PO12 1BB\
 , United Kingdom
X-APPLE-STRUCTURED-LOCATION;VALUE=URI;X-ADDRESS=Clarence Road \, Dining Roo
 m\, Hampshire\, PO12 1BB\, United Kingdom;X-APPLE-RADIUS=100;X-TITLE=Dinin
 g Room:geo:0,0
END:VEVENT
BEGIN:VTIMEZONE
TZID:Europe/London
X-LIC-LOCATION:Europe/London
BEGIN:DAYLIGHT
DTSTART:20250330T020000
TZOFFSETFROM:+0000
TZOFFSETTO:+0100
TZNAME:BST
END:DAYLIGHT
END:VTIMEZONE
END:VCALENDAR